BEGIN:VCALENDAR
VERSION:2.0
PRODID:-//イルチブレインヨガ豊田スタジオ - ECPv6.15.20//NONSGML v1.0//EN
CALSCALE:GREGORIAN
METHOD:PUBLISH
X-WR-CALNAME:イルチブレインヨガ豊田スタジオ
X-ORIGINAL-URL:https://ilchibrainyoga-toyota.com
X-WR-CALDESC:イルチブレインヨガ豊田スタジオ のイベント
REFRESH-INTERVAL;VALUE=DURATION:PT1H
X-Robots-Tag:noindex
X-PUBLISHED-TTL:PT1H
BEGIN:VTIMEZONE
TZID:Asia/Tokyo
BEGIN:STANDARD
TZOFFSETFROM:+0900
TZOFFSETTO:+0900
TZNAME:JST
DTSTART:20250101T000000
END:STANDARD
END:VTIMEZONE
BEGIN:VEVENT
DTSTART;TZID=Asia/Tokyo:20260320T140000
DTEND;TZID=Asia/Tokyo:20260320T153000
DTSTAMP:20260422T113033
CREATED:20260314T044931Z
LAST-MODIFIED:20260314T044931Z
UID:4547-1774015200-1774020600@ilchibrainyoga-toyota.com
SUMMARY:我理朗（アリラン）ARIRANG　気功と呼吸瞑想　体験会
DESCRIPTION:「我理朗(アリラン)」という意味\n「我」＝わたし\n「理」＝知る\n「朗」＝喜び \nつまり、本当の自分を知る喜び、本来の自分を悟る喜びという意味が込められています。 \n我理朗(アリラン)気功、瞑想を通してほんとうの自分に出会う体験をしてみませんか？ \n開催日：3月20日(金)\n時間：14:00〜15:30\n会場名：イルチブレインヨガ豊田スタジオ\n会場住所：愛知県豊田市小坂本町1-8-7 ベルトピア豊田Iビル6階\n参加費：1000円\nトレーナー：根本朱美\n持ち物：タオル、お茶 \n問合せ電話：0565-34-5556 \n\nLINEからのお申し込みはこちら⇒https://lin.ee/kxU9JPpt \n\n\n  \n\n\n\n\n\n \n体験ご希望日時\n		(必須)　※ご注意：月曜日は定休日です\n		\n \n—以下から選択してください—10111213141516171819時 —以下から選択してください—001020304050分 ～ のクラス\n \nお名前\n		 (必須)\n		\n \n\n \nメールアドレス\n		 (必須)\n		\n \n\n \nお電話番号（携帯可）\n		 (必須)\n		\n \n\n \nこちらのスタジオを何でお知りになりましたか？\n		 (必須)\n		\n \nチラシ看板書籍雑誌紹介Yahoo検索Google検索口コミその他Webサイト\n \nご関心があること、習得したいこと（複数可）\n \n自然治癒力アップ集中力アップダイエット体質改善ストレス緩和丹田強化呼吸法瞑想法リラックス運動不足解消姿勢がよくなりたいその他（備考欄にご記入ください）\n \n備考欄　\n \n複数でご参加する場合はこちらにお名前をご記入ください。\n※複数のお申込みは、計2名様までとさせていただきます。\n \n\n \n\n\n \n\n Δ \n\n\n\n株式会社DAHN WORLD JAPAN　ダンワールドジャパン
URL:https://ilchibrainyoga-toyota.com/event/toyota-14/
LOCATION:イルチブレインヨガ豊田スタジオ\, 愛知県 豊田市 小坂本町 1-8-7　ベルトピア豊田Ⅰ 6F\, 日本
CATEGORIES:体験会
ATTACH;FMTTYPE=image/jpeg:https://ilchibrainyoga-toyota.com/wp-content/uploads/2026/03/ef0036358ecd6d5fc273dc0c70e966ad.jpg
END:VEVENT
END:VCALENDAR